BEGIN:VCALENDAR
VERSION:2.0
PRODID:-//Third Cinemas - ECPv6.15.20//NONSGML v1.0//EN
CALSCALE:GREGORIAN
METHOD:PUBLISH
X-WR-CALNAME:Third Cinemas
X-ORIGINAL-URL:https://thirdcinema.net
X-WR-CALDESC:Events for Third Cinemas
REFRESH-INTERVAL;VALUE=DURATION:PT1H
X-Robots-Tag:noindex
X-PUBLISHED-TTL:PT1H
BEGIN:VTIMEZONE
TZID:America/New_York
BEGIN:DAYLIGHT
TZOFFSETFROM:-0500
TZOFFSETTO:-0400
TZNAME:EDT
DTSTART:20200308T070000
END:DAYLIGHT
BEGIN:STANDARD
TZOFFSETFROM:-0400
TZOFFSETTO:-0500
TZNAME:EST
DTSTART:20201101T060000
END:STANDARD
BEGIN:DAYLIGHT
TZOFFSETFROM:-0500
TZOFFSETTO:-0400
TZNAME:EDT
DTSTART:20210314T070000
END:DAYLIGHT
BEGIN:STANDARD
TZOFFSETFROM:-0400
TZOFFSETTO:-0500
TZNAME:EST
DTSTART:20211107T060000
END:STANDARD
BEGIN:DAYLIGHT
TZOFFSETFROM:-0500
TZOFFSETTO:-0400
TZNAME:EDT
DTSTART:20220313T070000
END:DAYLIGHT
BEGIN:STANDARD
TZOFFSETFROM:-0400
TZOFFSETTO:-0500
TZNAME:EST
DTSTART:20221106T060000
END:STANDARD
END:VTIMEZONE
BEGIN:VEVENT
DTSTART;TZID=America/New_York:20210426T193000
DTEND;TZID=America/New_York:20210426T203000
DTSTAMP:20260424T044626
CREATED:20210403T164115Z
LAST-MODIFIED:20210403T164410Z
UID:783-1619465400-1619469000@thirdcinema.net
SUMMARY:Rituals of Resistance
DESCRIPTION:An invitation to learn about Tibet’s history and resistance. \nFilm Streaming 4/24-4/28/2021. \nQ&A w/ Director Tenzin Phuntsog on 4/26 (Mon) 7:30-8:30pm \nFor RSVP and more info\, go to: \nhttps://www.chloeyenlinglee.com/resistance
URL:https://thirdcinema.net/event/rituals-of-resistance/
END:VEVENT
BEGIN:VEVENT
DTSTART;TZID=America/New_York:20210403T140000
DTEND;TZID=America/New_York:20210403T160000
DTSTAMP:20260424T044626
CREATED:20210305T025819Z
LAST-MODIFIED:20210319T011749Z
UID:755-1617458400-1617465600@thirdcinema.net
SUMMARY:Ouvertures
DESCRIPTION:An invitation to learn about Haiti’s decolonial history and fighting spirit today: \n  \nSpecial Film Screening & Talk Event on Haiti \n  \nOuvertures \nby Living and The Dead Ensemble \n  \n\n\n\n\n\nFilm Streaming:\nMarch 27 – April 3\, 2021 \n\nZoom Q&A with Filmmakers and Cast:\n\n\n\nSat\, April 3 @2-4PM EST \nW/ Louis Henderson\, Olivier Marboeuf\, and The Living and The Dead Ensemble (Haiti\, France\, and UK) \nCréole haïtien-English translation available. \n\nRSVP BY EOD APRIL 2 to get the film and Q&A zoom links (FREE but RSVP required)\n\n\nRSVP\nA presentation will be available here at a later date before 3/27. Come back and check it out! \n\nOuvertures (2019\, Créole haïtien\, français\, 140min. Berlinale 2020\, NY Film Fest 2020)\nMoving from the frozen landscapes of the Jura mountains to the urban centres of Port-au-Prince\, Ouvertures brings the Haitian revolutionary Toussaint Louverture back to life. In France a Haitian researcher tries to read the past within the stratigraphic layers of Jurassic limestone\, whilst in Haiti a group of young actors translate and rehearse scenes from Monsieur Toussaint\, a play written by Édouard Glissant\, that recounts the last days in the life of Louverture dying in exile in a prison cell in the Jura\, 1803. Ghosts from the pantheon of Haitian history visit Louverture on his deathbed and put him to trial. As the play proceeds the actors become possessed by their characters\, and eventually the ghost of Louverture joins the group and takes them on a voyage for a new kind of exile. \nhttps://thelivingandthedeadensemble.com/ouvertures/\n\n\n \n\n\n \nOuvertures Official Trailer 2020 from louis henderson on Vimeo. \n  \nSee the main event page for the bios of the filmmakers and cast. \n\n \n\n\n\n\nThis event is developed as part of Third Cinema course at MFA in Integrated Media Arts\, Hunter College\nOrganizer: Fredgy Noël (MFA candidate)\, Sponsoring Faculty: Reiko Tahara\n\n\n\n\nWe thank the Film and Media Dept at Hunter College: Kelly Anderson (Chair)\, Andrew Lund (Director of MFA in Integrated Media Arts)\, David Pavlosky (Operations Manager & Internship Advisor)\, Natalie Conn (Program Coordinator for IMA)\, Peter Jackson (Chief Digital Media CLT & Production Coordinator)\, Sha Sha Feng (Adjunct Assistant Professor & Sr. Web Development CLT)\, Chloé Lee (co-teacher-student in Third Cinema)\, and student-teacher helpers from the Third Cinema course. We also thank The Living and the Dead Ensemble members for creating this powerful film and making themselves available for us\, Aily Nash (the film’s US Representative)\, and Hunter College Presidential Student Engagement Initiatives and President Jennifer Raab for making this event possible. \n\n 
URL:https://thirdcinema.net/event/ouvertures/
LOCATION:Hunter College\, Zoom -online\, New York City\, United States
ATTACH;FMTTYPE=image/png:https://thirdcinema.net/wp-content/uploads/2021/03/Ouvertures_V3.posterwLourel.png
END:VEVENT
END:VCALENDAR